BEGIN:VCALENDAR
VERSION:2.0
PRODID:-//ToSneller - ECPv6.0.9//NONSGML v1.0//EN
CALSCALE:GREGORIAN
METHOD:PUBLISH
X-WR-CALNAME:ToSneller
X-ORIGINAL-URL:https://www.tosneller.no
X-WR-CALDESC:Arrangement for ToSneller
REFRESH-INTERVAL;VALUE=DURATION:PT1H
X-Robots-Tag:noindex
X-PUBLISHED-TTL:PT1H
BEGIN:VTIMEZONE
TZID:Europe/Helsinki
BEGIN:DAYLIGHT
TZOFFSETFROM:+0200
TZOFFSETTO:+0300
TZNAME:EEST
DTSTART:20260329T010000
END:DAYLIGHT
BEGIN:STANDARD
TZOFFSETFROM:+0300
TZOFFSETTO:+0200
TZNAME:EET
DTSTART:20261025T010000
END:STANDARD
END:VTIMEZONE
BEGIN:VEVENT
DTSTART;TZID=Europe/Helsinki:20260508T170000
DTEND;TZID=Europe/Helsinki:20260510T160000
DTSTAMP:20260419T215549
CREATED:20251111T211622Z
LAST-MODIFIED:20260406T135006Z
UID:3311-1778259600-1778428800@www.tosneller.no
SUMMARY:Skjørt med A-fasong
DESCRIPTION:Kom og sy et skjørt med A-fasong!\nPå dette kurset skal vi sy et klassisk og veldig kledelig skjørt. At det har A-fasong betyr at det skrår lett utover fra hoften. Skjørtet har innsnitt bak\, skjult glidelås og belegg som sys til med støttestikning.\nKurset passer for deg som har grunnleggende sømkunnskaper og kan lese et mønster. Du bør kjenne til begreper som trådretning og sømrom og ha litt erfaring ved symaskinen.\nDu kan fint bli med på dette kurset om du har deltatt på nybegynnerkurset hos oss. \nMålet er at alle skal bli ferdige i løpet av helgen! Kanskje du har lyst til å sy deg et skjørt til ferien? Første kurskveld lærer du å ta kontrollmål av mønsteret ditt (det blir tegnet ut personlig mønster til deg basert på dine mål)\, og du blir kjent med hvordan du i fremtiden skal velge riktig størrelse når du skal sy til deg selv. Videre klipper vi ut alle mønsterdelene\, merker og stabiliser.\nLørdag og søndag vil de ulike teknikkene demonstreres\, steg for steg. Om noen vil filme underveis kan vi lage en gruppe hvor vi deler alle fremgangsmåtene slik at dette kan brukes når man skal i gang med et nytt skjørt til hjemme på egenhånd😉 \nKursdeltagerne kjøper selv inn materialer som stoff og matchende tråd og glidelås.\nValg av materialer vil bli anbefalt pr mail i god tid før kursstart. \nDu trenger ikke ha med egen symaskin eller andre sysaker\, da vi har en flott maskinpark og alt nødvendig utstyr tilgjengelig for våre kursdeltakere. \nHos To Sneller er det viktig at alle får god og grundig oppfølging\, derfor har vi begrenset antall plasser på våre sykurs.\nSjekk at det er riktig nivå på kurset før du melder deg på. \nKursholder: Solveig Hopen \nAntall deltakere: 5 kursplasser\nNivå: Litt øvet\nPris: 3300 kr\nKursavgiften er inkludert mønster.\nDet serveres kaffe\, te\, boblevann og frukt underveis i kurset\nTa med matpakke til lørdag og søndag. \nTidspunkt:\nFredag   17-20\nLørdag   10-16\nSøndag  10-16 \nSkjørt med A-fasong\, 2026\n8 – 10 mai (Solveig):  Kurset er fullbooket \nPåmelding via epost: systua@tosneller.no \nSom en liten bedrift har ToSneller noen retningslinjer vedrørende både refusjon av kursavgift og antall påmeldte for gjennomføring av kurs. Klikk her for å se på våre kjøpsvilkår: Kjøpsvilkår \nEn oversikt over våre andre kurs finner du her
URL:https://www.tosneller.no/event/skjort-med-a-fasong/
LOCATION:Systua ToSneller\, Vertshusveien 38\, 1353 Bærums Verk
CATEGORIES:Skjørt med A-fasong
ATTACH;FMTTYPE=image/jpeg:https://www.tosneller.no/wp-content/uploads/2025/11/A-fasong-fullbooket.jpg
END:VEVENT
BEGIN:VEVENT
DTSTART;TZID=Europe/Helsinki:20260529T170000
DTEND;TZID=Europe/Helsinki:20260531T150000
DTSTAMP:20260419T215549
CREATED:20251111T201212Z
LAST-MODIFIED:20260417T164207Z
UID:3295-1780074000-1780239600@www.tosneller.no
SUMMARY:Sykurs for nybegynnere
DESCRIPTION:Er du nybegynner\, og ønsker deg en god introduksjon for å komme skikkelig i gang? Da er dette kurset for deg! \nHer får du en grundig innføring i hvordan symaskinen virker og hva du må ta hensyn til for å få et godt resultat. Først vil du lære å tre maskinen\, og du vil bli kjent med hvordan den fungerer. Vi guider deg videre trygt igjennom alle grunnleggende prinsipper i søm. \nPå kurset vil du sy en stor fóret weekend-bag\, med innvendig lomme og hanker. Du lærer om sømrom\, merking\, klipping\, presseteknikker og å sy stikninger for å nevne noe. Tenk at noen flate stoffstykker kan bli til en tredimensjonal bag! \nKurset gjennomføres på 13 timer og du vil garantert sitte igjen med en mestringsfølelse når du går ut av døren vår søndag ettermiddag med et sprekt produkt du vil få mye bruk for. \nHos ToSneller er det viktig at alle får god og grundig oppfølging\, derfor har vi begrenset antall plasser på våre sykurs. Sjekk at det er riktig nivå på kurset før du melder deg på.\nDu trenger ikke ha med egen symaskin eller andre sysaker\, da vi har en ny\, flott maskinpark og alt nødvendig utstyr tilgjengelig for våre kursdeltakere. \nKursholder: Merete Mosebæk/Solveig Hopen \nAntall deltakere: 6 kursplasser\nNivå: Nybegynner\nPris: 3000 kr\nKursavgiften inkludert mønster\, materialer\, forfriskninger og drikke.\nTa med matpakke til lørdag og søndag. \nTidspunkt:\nFredag   17-20\nLørdag   10-15\nSøndag  10-15 \nSykurs for nybegynnere\, 2026\n29 – 31 mai 2026 (Merete):  1 ledig kursplass \nPåmelding via epost: systua@tosneller.no \nSom en liten bedrift har ToSneller noen retningslinjer vedrørende både refusjon av kursavgift og antall påmeldte for gjennomføring av kurs. Klikk her for å se på våre kjøpsvilkår: Kjøpsvilkår \nOm du ønsker du å sette deg på venteliste for kommende nybegynnerkurs\, send oss en mail. \nEn oversikt over våre andre kurs finner du her
URL:https://www.tosneller.no/event/sykurs-for-nybegynnere-37/
LOCATION:Systua ToSneller\, Vertshusveien 38\, 1353 Bærums Verk
CATEGORIES:Sykurs for nybegynnere
ATTACH;FMTTYPE=image/jpeg:https://www.tosneller.no/wp-content/uploads/2023/12/1-ledig-plass.jpeg
END:VEVENT
BEGIN:VEVENT
DTSTART;TZID=Europe/Helsinki:20260605T170000
DTEND;TZID=Europe/Helsinki:20260607T150000
DTSTAMP:20260419T215549
CREATED:20251111T211123Z
LAST-MODIFIED:20260329T090300Z
UID:3309-1780678800-1780844400@www.tosneller.no
SUMMARY:Veskekurs
DESCRIPTION:Bli med og sy en praktisk fôret veske med lærhanker\, glidelåslomme og snørelukning i toppen.\nVi syr i en stødig\, solid bomullscordfløyel\, og det blir mulig å velge mellom blå\, grønn\, karamell og rustrødt hovedstoff. Fôr og ytterlomme vil være i en småmønstrete bomullskvalitet dere velger ut på kurset. Det blir flere stoffer å velge i\, noe for enhver smak!\nMaterialpakke og mønster er inkludert i kursprisen. \nHos ToSneller er det viktig at alle får god og grundig oppfølging\, derfor har vi begrenset antall plasser på våre sykurs. Sjekk at det er riktig nivå på kurset før du melder deg på.\nDu trenger ikke ha med egen symaskin eller andre sysaker\, da vi har en ny\, flott maskinpark og alt nødvendig utstyr tilgjengelig for våre kursdeltakere. \nKursholder: Solveig Hopen \nAntall deltakere: 6 kursplasser\nNivå: Litt øvet\nPris: 3400 kr\nKursprisen er inkludert mønster og materialpakke.\nDet serveres kaffe\, te\, frukt og boblevann underveis i kurset.\nTa med matpakke til lørdag og søndag. \nTidspunkt:\nFredag   17-20\nLørdag   10-15\nSøndag  10-15 \nVeskekurs\, 2026\n5 – 7 juni (Solveig):  6 ledige kursplasser \nPåmelding via epost: systua@tosneller.no \nSom en liten bedrift har ToSneller noen retningslinjer vedrørende både refusjon av kursavgift og antall påmeldte for gjennomføring av kurs. Klikk her for å se på våre kjøpsvilkår: Kjøpsvilkår \nEn oversikt over våre andre kurs finner du her
URL:https://www.tosneller.no/event/veskekurs/
LOCATION:Systua ToSneller\, Vertshusveien 38\, 1353 Bærums Verk
CATEGORIES:Veskekurs
ATTACH;FMTTYPE=image/jpeg:https://www.tosneller.no/wp-content/uploads/2026/03/6-LEDIGE-KURSPLASSER.jpg
END:VEVENT
BEGIN:VEVENT
DTSTART;TZID=Europe/Helsinki:20260612T170000
DTEND;TZID=Europe/Helsinki:20260614T150000
DTSTAMP:20260419T215549
CREATED:20251111T203908Z
LAST-MODIFIED:20251111T203908Z
UID:3299-1781283600-1781449200@www.tosneller.no
SUMMARY:Toalettmappe / Strikkemappe "Alt-mulig-mappe"
DESCRIPTION:På dette kurset syr vi en tredimensjonal toalettmappe som selvfølgelig kan brukes til mye annet enn toalettsaker! Vi bruker sømteknikken «quilt as you go» slik at mappen blir fóret underveis i prosessen.\nHer kan man lage sitt personlige preg og uttrykk ved å sette sammen stoffer akkurat slik man vil.\nAlt av materialer er inkludert i kurset\, og det er litt av hvert å velge i.\nDu trenger ikke ha med egen symaskin eller andre sysaker\, da vi har en flott maskinpark og alt nødvendig utstyr tilgjengelig for våre kursdeltakere.\nDet serveres frukt\, kaffe\, te og forfriskninger underveis i kurshelgen\, men du må ha med matpakke til lunsj lørdag og søndag. \nKursholder: Merete Mosebæk \nAntall deltakere: 6 kursplasser\nNivå: Øvet\nPris: 3250 kr\nKursavgiften inkludert mønster\, materialer\, forfriskninger og drikke.\nTa med matpakke til lørdag og søndag. \nTidspunkt:\nFredag   17-20\nLørdag   10-15\nSøndag  10-15 \nToalettmappe / Strikkemappe «Alt-mulig-mappe»\, 2026\n12. – 14. juni 2026 (Merete):  6 ledige kursplasser \nPåmelding via epost: systua@tosneller.no \nSom en liten bedrift har ToSneller noen retningslinjer vedrørende både refusjon av kursavgift og antall påmeldte for gjennomføring av kurs. Klikk her for å se på våre kjøpsvilkår: Kjøpsvilkår \nEn oversikt over våre andre kurs finner du her
URL:https://www.tosneller.no/event/toalettmappe-strikkemappe-alt-mulig-mappe-3/
LOCATION:Systua ToSneller\, Vertshusveien 38\, 1353 Bærums Verk
CATEGORIES:Sy en mappe
ATTACH;FMTTYPE=image/jpeg:https://www.tosneller.no/wp-content/uploads/2025/06/Mappe-6-kursplasser.jpg
END:VEVENT
BEGIN:VEVENT
DTSTART;TZID=Europe/Helsinki:20260619T170000
DTEND;TZID=Europe/Helsinki:20260621T150000
DTSTAMP:20260419T215549
CREATED:20251111T201500Z
LAST-MODIFIED:20251113T220843Z
UID:3297-1781888400-1782054000@www.tosneller.no
SUMMARY:Sykurs for nybegynnere
DESCRIPTION:Er du nybegynner\, og ønsker deg en god introduksjon for å komme skikkelig i gang? Da er dette kurset for deg! \nHer får du en grundig innføring i hvordan symaskinen virker og hva du må ta hensyn til for å få et godt resultat. Først vil du lære å tre maskinen\, og du vil bli kjent med hvordan den fungerer. Vi guider deg videre trygt igjennom alle grunnleggende prinsipper i søm. \nPå kurset vil du sy en stor fóret weekend-bag\, med innvendig lomme og hanker. Du lærer om sømrom\, merking\, klipping\, presseteknikker og å sy stikninger for å nevne noe. Tenk at noen flate stoffstykker kan bli til en tredimensjonal bag! \nKurset gjennomføres på 13 timer og du vil garantert sitte igjen med en mestringsfølelse når du går ut av døren vår søndag ettermiddag med et sprekt produkt du vil få mye bruk for. \nHos ToSneller er det viktig at alle får god og grundig oppfølging\, derfor har vi begrenset antall plasser på våre sykurs. Sjekk at det er riktig nivå på kurset før du melder deg på.\nDu trenger ikke ha med egen symaskin eller andre sysaker\, da vi har en ny\, flott maskinpark og alt nødvendig utstyr tilgjengelig for våre kursdeltakere. \nKursholder: Solveig Hopen \nAntall deltakere: 6 kursplasser\nNivå: Nybegynner\nPris: 3000 kr\nKursavgiften inkludert mønster\, materialer\, forfriskninger og drikke.\nTa med matpakke til lørdag og søndag. \nTidspunkt:\nFredag   17-20\nLørdag   10-15\nSøndag  10-15 \nSykurs for nybegynnere\, 2026\n19 – 21 juni 2026 (Solveig):  6 ledige kursplasser \nPåmelding via epost: systua@tosneller.no \nSom en liten bedrift har ToSneller noen retningslinjer vedrørende både refusjon av kursavgift og antall påmeldte for gjennomføring av kurs. Klikk her for å se på våre kjøpsvilkår: Kjøpsvilkår \nOm du ønsker du å sette deg på venteliste for kommende nybegynnerkurs\, send oss en mail. \nEn oversikt over våre andre kurs finner du her
URL:https://www.tosneller.no/event/sykurs-for-nybegynnere-38/
LOCATION:Systua ToSneller\, Vertshusveien 38\, 1353 Bærums Verk
CATEGORIES:Sykurs for nybegynnere
ATTACH;FMTTYPE=image/jpeg:https://www.tosneller.no/wp-content/uploads/2023/12/6-ledige-plasser.jpeg
END:VEVENT
END:VCALENDAR