BEGIN:VCALENDAR
VERSION:2.0
PRODID:-//ToSneller - ECPv6.0.9//NONSGML v1.0//EN
CALSCALE:GREGORIAN
METHOD:PUBLISH
X-WR-CALNAME:ToSneller
X-ORIGINAL-URL:https://www.tosneller.no
X-WR-CALDESC:Arrangement for ToSneller
REFRESH-INTERVAL;VALUE=DURATION:PT1H
X-Robots-Tag:noindex
X-PUBLISHED-TTL:PT1H
BEGIN:VTIMEZONE
TZID:Europe/Helsinki
BEGIN:DAYLIGHT
TZOFFSETFROM:+0200
TZOFFSETTO:+0300
TZNAME:EEST
DTSTART:20250330T010000
END:DAYLIGHT
BEGIN:STANDARD
TZOFFSETFROM:+0300
TZOFFSETTO:+0200
TZNAME:EET
DTSTART:20251026T010000
END:STANDARD
END:VTIMEZONE
BEGIN:VEVENT
DTSTART;TZID=Europe/Helsinki:20250221T170000
DTEND;TZID=Europe/Helsinki:20250223T160000
DTSTAMP:20260425T062238
CREATED:20241111T221750Z
LAST-MODIFIED:20250128T220415Z
UID:2972-1740157200-1740326400@www.tosneller.no
SUMMARY:Blusekurs for litt øvede
DESCRIPTION:Dette kurset passer fint for deg som er nysgjerrig på å sy klær! \nVi syr en elegant bluse med fine detaljer som splittåpning\, krage\,  mansjetter og trukne knapper.  \nDu kjøper selv stoff og tråd som du bringer med på kurset.\nVelegnede stoffer til bluse er bomullskvaliteter som poplin og egyptisk bomull\, skjortestoffer i bomull\, lin eller en stødig\, litt kraftig viskose.\nPS: Stoffet du velger MÅ være vevet\, dvs IKKE jerseystoffer. \nUnngå ruter da det er krevende i forhold til mønstermatching!\n \nDu trenger ikke ha med egen symaskin eller andre sysaker\, da vi har en flott maskinpark og alt nødvendig utstyr tilgjengelig for våre kursdeltakere. \nHos ToSneller er det viktig at alle får god og grundig oppfølging\, derfor har vi begrenset antall plasser på våre sykurs. Sjekk at det er riktig nivå på kurset før du melder deg på. \nKursholder: Solveig Hopen \nAntall deltakere: 5 kursplasser\nNivå: Litt øvet\nPris: 3400 kr\nKursavgiften inkludert mønster\, forfriskninger og drikke.\nTa med matpakke til lørdag og søndag. \nTidspunkt:\nFredag   17-20\nLørdag   10-16\nSøndag  10-16 \nBlusekurs\, 2025\n21 -23 februar (Solveig):  1 ledig kursplass \nPåmelding via epost: systua@tosneller.no \nSom en liten bedrift har ToSneller noen retningslinjer vedrørende både refusjon av kursavgift og antall påmeldte for gjennomføring av kurs. Klikk her for å se på våre kjøpsvilkår: Kjøpsvilkår \nEn oversikt over våre andre kurs finner du her
URL:https://www.tosneller.no/event/blusekurs-for-litt-ovede/
LOCATION:Systua ToSneller\, Vertshusveien 38\, 1353 Bærums Verk
CATEGORIES:Blusekurs
END:VEVENT
END:VCALENDAR