BEGIN:VCALENDAR
VERSION:2.0
PRODID:-//ToSneller - ECPv6.0.9//NONSGML v1.0//EN
CALSCALE:GREGORIAN
METHOD:PUBLISH
X-WR-CALNAME:ToSneller
X-ORIGINAL-URL:https://www.tosneller.no
X-WR-CALDESC:Arrangement for ToSneller
REFRESH-INTERVAL;VALUE=DURATION:PT1H
X-Robots-Tag:noindex
X-PUBLISHED-TTL:PT1H
BEGIN:VTIMEZONE
TZID:Europe/Helsinki
BEGIN:DAYLIGHT
TZOFFSETFROM:+0200
TZOFFSETTO:+0300
TZNAME:EEST
DTSTART:20240331T010000
END:DAYLIGHT
BEGIN:STANDARD
TZOFFSETFROM:+0300
TZOFFSETTO:+0200
TZNAME:EET
DTSTART:20241027T010000
END:STANDARD
END:VTIMEZONE
BEGIN:VEVENT
DTSTART;TZID=Europe/Helsinki:20241018T170000
DTEND;TZID=Europe/Helsinki:20241020T150000
DTSTAMP:20260420T033226
CREATED:20240605T182014Z
LAST-MODIFIED:20240831T131716Z
UID:2882-1729270800-1729436400@www.tosneller.no
SUMMARY:Kåpekurs - kåpe med fór
DESCRIPTION:Kåpe med fór \nPå dette kurset skal du sy en elegant\, fóret kåpe med a-fasong. Kåpen har i utgangspunktet mye vidde\, og klokkeformede ermer. Det vil være mulig å gjøre noen endringer på vidden og lengden av både kåpen og ermene. \nVi vil gå gjennom teknikker som blant annet\, knapphull\, isetting av ermer og opplegg av buet nederkant. Ikke minst skal vi vrangsy selve kåpen med fór\, en gøyal og nesten magisk teknikk\, for den som ikke har erfaring med dette. \nKursdeltakere må ha grunnleggende sømkunnskaper og kjenne til begreper som trådretning\, sømrom og vite hvordan man leser et mønster. \nKursdeltakere kjøper selv inn materialer som stoff\, tråd og knapper. \nDu trenger ikke ha med egen symaskin eller andre sysaker\, da vi har en flott maskinpark og alt nødvendig utstyr tilgjengelig for våre kursdeltakere. \nKursholder: Merete Mosebæk \nAntall deltakere: 5 kursplasser\nNivå: Øvet\nPris: 3400 kr\nKursavgiften inkludert mønster\, forfriskninger og drikke.\nTa med matpakke til lørdag og søndag. \nTidspunkt:\nFredag   17-20\nLørdag   10-16\nSøndag  10-16 \nKåpe med fór\, 2024\n18 – 20 oktober (Merete):  Kurset er fullbooket \nPåmelding via epost: systua@tosneller.no \nSom en liten bedrift har ToSneller noen retningslinjer vedrørende både refusjon av kursavgift og antall påmeldte for gjennomføring av kurs. Klikk her for å se på våre kjøpsvilkår: Kjøpsvilkår \nEn oversikt over våre andre kurs finner du her
URL:https://www.tosneller.no/event/kapekurs/
LOCATION:Systua ToSneller\, Vertshusveien 38\, 1353 Bærums Verk
CATEGORIES:Kåpekurs
END:VEVENT
END:VCALENDAR