BEGIN:VCALENDAR
VERSION:2.0
PRODID:-//ToSneller - ECPv6.0.9//NONSGML v1.0//EN
CALSCALE:GREGORIAN
METHOD:PUBLISH
X-WR-CALNAME:ToSneller
X-ORIGINAL-URL:https://www.tosneller.no
X-WR-CALDESC:Arrangement for ToSneller
REFRESH-INTERVAL;VALUE=DURATION:PT1H
X-Robots-Tag:noindex
X-PUBLISHED-TTL:PT1H
BEGIN:VTIMEZONE
TZID:Europe/Helsinki
BEGIN:DAYLIGHT
TZOFFSETFROM:+0200
TZOFFSETTO:+0300
TZNAME:EEST
DTSTART:20260329T010000
END:DAYLIGHT
BEGIN:STANDARD
TZOFFSETFROM:+0300
TZOFFSETTO:+0200
TZNAME:EET
DTSTART:20261025T010000
END:STANDARD
END:VTIMEZONE
BEGIN:VEVENT
DTSTART;TZID=Europe/Helsinki:20260227T170000
DTEND;TZID=Europe/Helsinki:20260301T150000
DTSTAMP:20260426T054839
CREATED:20251111T200318Z
LAST-MODIFIED:20260213T170648Z
UID:3291-1772211600-1772377200@www.tosneller.no
SUMMARY:Sykurs for nybegynnere
DESCRIPTION:Er du nybegynner\, og ønsker deg en god introduksjon for å komme skikkelig i gang? Da er dette kurset for deg! \nHer får du en grundig innføring i hvordan symaskinen virker og hva du må ta hensyn til for å få et godt resultat. Først vil du lære å tre maskinen\, og du vil bli kjent med hvordan den fungerer. Vi guider deg videre trygt igjennom alle grunnleggende prinsipper i søm. \nPå kurset vil du sy en stor fóret weekend-bag\, med innvendig lomme og hanker. Du lærer om sømrom\, merking\, klipping\, presseteknikker og å sy stikninger for å nevne noe. Tenk at noen flate stoffstykker kan bli til en tredimensjonal bag! \nKurset gjennomføres på 13 timer og du vil garantert sitte igjen med en mestringsfølelse når du går ut av døren vår søndag ettermiddag med et sprekt produkt du vil få mye bruk for. \nHos ToSneller er det viktig at alle får god og grundig oppfølging\, derfor har vi begrenset antall plasser på våre sykurs. Sjekk at det er riktig nivå på kurset før du melder deg på.\nDu trenger ikke ha med egen symaskin eller andre sysaker\, da vi har en ny\, flott maskinpark og alt nødvendig utstyr tilgjengelig for våre kursdeltakere. \nKursholder: Solveig Hopen \nAntall deltakere: 6 kursplasser\nNivå: Nybegynner\nPris: 3000 kr\nKursavgiften inkludert mønster\, materialer\, forfriskninger og drikke.\nTa med matpakke til lørdag og søndag. \nTidspunkt:\nFredag   17-20\nLørdag   10-15\nSøndag  10-15 \nSykurs for nybegynnere\, 2026\n27. februar – 1. mars 2026 (Solveig):  Kurset er fullbooket \nPåmelding via epost: systua@tosneller.no \nSom en liten bedrift har ToSneller noen retningslinjer vedrørende både refusjon av kursavgift og antall påmeldte for gjennomføring av kurs. Klikk her for å se på våre kjøpsvilkår: Kjøpsvilkår \nOm du ønsker du å sette deg på venteliste for kommende nybegynnerkurs\, send oss en mail. \nEn oversikt over våre andre kurs finner du her
URL:https://www.tosneller.no/event/sykurs-for-nybegynnere-35/
LOCATION:Systua ToSneller\, Vertshusveien 38\, 1353 Bærums Verk
CATEGORIES:Sykurs for nybegynnere
ATTACH;FMTTYPE=image/png:https://www.tosneller.no/wp-content/uploads/2023/08/Nybegynner-fullbooket.png
END:VEVENT
BEGIN:VEVENT
DTSTART;TZID=Europe/Helsinki:20260306T150000
DTEND;TZID=Europe/Helsinki:20260311T210000
DTSTAMP:20260426T054839
CREATED:20251111T204457Z
LAST-MODIFIED:20251114T135857Z
UID:3301-1772809200-1773262800@www.tosneller.no
SUMMARY:Skjortekurs - for både menn og kvinner
DESCRIPTION:Vi skal sy en klassisk skjorte med stand og krage\, sliss\, mansjetter og knappestolpe m/knapp og knapphull. Dette kurset passer for deg som har grunnleggende sømkunnskaper og kjenner til begreper som trådretning\, sømrom og vet hvordan man leser et mønster. Du kan fint melde deg på dette kurset dersom du tidligere har deltatt på vårt nybegynnerkurs. \n\n\nDette kurset går over en helg pluss en onsdagskveld. Det er lagt opp til at man jobber på egenhånd mellom kurshelgen og siste kurskveld. På den måten har man større forutsetninger for å komme i mål når vi møtes til siste samling. \n\n\nFørste kurskveld brukes til å klippe alle mønsterdelene. Du lærer også å ta kontrollmål\, slik at du vet hvilken størrelse du skal velge ved søm av fremtidige plagg. Videre vil du bli geleidet systematisk gjennom alle teknikkene\, trinnvis. Etter hvert som kursholder demonstrerer\, filmer vi de ulike sømteknikkene som deles på en chat-gruppe. Slik forenkles hjemmearbeidet\, dersom man trenger repetisjon for å mestre det på egenhånd. \n\n\nKursdeltagere kjøper selv inn materialer som stoff\, tråd og knapper. \n\n\nDu trenger ikke ha med egen symaskin eller andre sysaker\, da vi har en flott maskinpark og alt nødvendig utstyr tilgjengelig for våre kursdeltakere. \n\nHos To Sneller er det viktig at alle får god og grundig oppfølging\, derfor har vi begrenset antall plasser på våre sykurs. Sjekk at det er riktig nivå på kurset før du melder deg på. \nKursholder: Merete Mosebæk \nAntall deltakere: 5 kursplasser\nNivå: Litt øvet\nPris: 3500 kr\nKursavgiften inkludert mønster.\nDet serveres kaffe\, te og boblevann underveis i kurset. \nTidspunkt:\nFredag   17-20\nLørdag   10-15\nSøndag  10-15\nOnsdag 18-21 \nSkjortekurs for både menn og kvinner\, 2026\n6 – 8 mars og 11 mars(Merete): Kurset er fullbooket \nPåmelding via epost: systua@tosneller.no \nSom en liten bedrift har To Sneller noen retningslinjer vedrørende både refusjon av kursavgift og antall påmeldte for gjennomføring av kurs. Klikk her for å se på våre kjøpsvilkår: Kjøpsvilkår \nEn oversikt over våre andre kurs finner du her
URL:https://www.tosneller.no/event/skjortekurs-for-bade-menn-og-kvinner-3/
LOCATION:Systua ToSneller\, Vertshusveien 38\, 1353 Bærums Verk
CATEGORIES:Skjortekurs for menn og kvinner
ATTACH;FMTTYPE=image/jpeg:https://www.tosneller.no/wp-content/uploads/2025/06/Skjorte-fullbooket.jpg
END:VEVENT
BEGIN:VEVENT
DTSTART;TZID=Europe/Helsinki:20260320T170000
DTEND;TZID=Europe/Helsinki:20260322T150000
DTSTAMP:20260426T054839
CREATED:20251111T205551Z
LAST-MODIFIED:20260315T075932Z
UID:3305-1774026000-1774191600@www.tosneller.no
SUMMARY:Kurs i sømteknikker
DESCRIPTION:Dette kurset passer for deg som kjenner til det helt grunnleggende innen søm\, som trådretning og sømrom/sømmonn. Dersom du har deltatt på nybegynnerkurs hos oss\, kan dette være en fin fortsettelse! \nPå dette kurset syr vi prøvelapper\, hvor du etterpå sitter igjen med et lite kartotek som vil gjøre fremtidige sømprosjekter enklere\, da man kan bruke dette som et oppslagsverk. \nVi snellene ELSKER prøvelapper og gjør alltid en test i et rimelig bomullsstoff dersom vi er usikre på en teknikk\, istedenfor å gå løs på en fin\, kostbar kvalitet! \nSå\, vil du lære deg teknikker for å oppnå flotte resultater når du syr klær\, er det bare å melde seg på  \nPå dette kurset vil du lære: \n\nGrunnleggende søm- og presseteknikker\nOpplegg med maskin og for hånd\nKonvolutthjørne\nRynking\nKanting med skråbånd\nBuede delesømmer\nFransk søm\nInnsnitt\nBelegg\nSkjult glidelås\n\n\nHos ToSneller er det viktig at alle får god og grundig oppfølging\, derfor har vi begrenset antall plasser på våre sykurs. Sjekk at det er riktig nivå på kurset før du melder deg på.\nDu trenger ikke ha med egen symaskin eller andre sysaker\, da vi har en ny\, flott maskinpark og alt nødvendig utstyr tilgjengelig for våre kursdeltakere. \nKursholder: Solveig Hopen \nAntall deltakere: 6 kursplasser\nNivå: Litt øvet\nPris: 3200 kr\nKursavgiften inkluderer materialer\, og vi serverer kaffe\, te og boblevann underveis i kurset.\nTa med matpakke til lørdag og søndag. \n\nTidspunkt:\nFredag   17-20\nLørdag   10-15\nSøndag  10-15 \nSømteknikkurs\, 2026\n20 – 22 mars (Solveig): 1 ledig kursplasser \nPåmelding via epost: systua@tosneller.no \nSom en liten bedrift har ToSneller noen retningslinjer vedrørende både refusjon av kursavgift og antall påmeldte for gjennomføring av kurs. Klikk her for å se på våre kjøpsvilkår: Kjøpsvilkår \nEn oversikt over våre andre kurs finner du her
URL:https://www.tosneller.no/event/kurs-i-somteknikker-3/
LOCATION:Systua ToSneller\, Vertshusveien 38\, 1353 Bærums Verk
CATEGORIES:Kurs i sømteknikker
ATTACH;FMTTYPE=image/jpeg:https://www.tosneller.no/wp-content/uploads/2024/03/somteknikk-1-ledig.jpg
END:VEVENT
END:VCALENDAR